BEGIN:VCALENDAR
VERSION:2.0
PRODID:-//Town of Magnolia - ECPv6.15.16//NONSGML v1.0//EN
CALSCALE:GREGORIAN
METHOD:PUBLISH
X-WR-CALNAME:Town of Magnolia
X-ORIGINAL-URL:https://magnoliawi.gov
X-WR-CALDESC:Events for Town of Magnolia
REFRESH-INTERVAL;VALUE=DURATION:PT1H
X-Robots-Tag:noindex
X-PUBLISHED-TTL:PT1H
BEGIN:VTIMEZONE
TZID:America/Chicago
BEGIN:DAYLIGHT
TZOFFSETFROM:-0600
TZOFFSETTO:-0500
TZNAME:CDT
DTSTART:20170312T080000
END:DAYLIGHT
BEGIN:STANDARD
TZOFFSETFROM:-0500
TZOFFSETTO:-0600
TZNAME:CST
DTSTART:20171105T070000
END:STANDARD
BEGIN:DAYLIGHT
TZOFFSETFROM:-0600
TZOFFSETTO:-0500
TZNAME:CDT
DTSTART:20180311T080000
END:DAYLIGHT
BEGIN:STANDARD
TZOFFSETFROM:-0500
TZOFFSETTO:-0600
TZNAME:CST
DTSTART:20181104T070000
END:STANDARD
BEGIN:DAYLIGHT
TZOFFSETFROM:-0600
TZOFFSETTO:-0500
TZNAME:CDT
DTSTART:20190310T080000
END:DAYLIGHT
BEGIN:STANDARD
TZOFFSETFROM:-0500
TZOFFSETTO:-0600
TZNAME:CST
DTSTART:20191103T070000
END:STANDARD
END:VTIMEZONE
BEGIN:VEVENT
DTSTART;TZID=America/Chicago:20181009T190000
DTEND;TZID=America/Chicago:20181009T193000
DTSTAMP:20260424T050714
CREATED:20190408T122131Z
LAST-MODIFIED:20190408T122131Z
UID:10000010-1539111600-1539113400@magnoliawi.gov
SUMMARY:Public Hearing
DESCRIPTION:
URL:https://magnoliawi.gov/event/public-hearing-2/
LOCATION:Town Hall
CATEGORIES:Plan Commission
END:VEVENT
BEGIN:VEVENT
DTSTART;TZID=America/Chicago:20181009T193000
DTEND;TZID=America/Chicago:20181009T203000
DTSTAMP:20260424T050714
CREATED:20190408T122225Z
LAST-MODIFIED:20190408T122225Z
UID:10000011-1539113400-1539117000@magnoliawi.gov
SUMMARY:Town Board Meeting
DESCRIPTION:
URL:https://magnoliawi.gov/event/town-board-meeting-6/
LOCATION:Town Hall
CATEGORIES:Town Board
END:VEVENT
BEGIN:VEVENT
DTSTART;TZID=America/Chicago:20181020T090000
DTEND;TZID=America/Chicago:20181020T140000
DTSTAMP:20260424T050714
CREATED:20190408T135450Z
LAST-MODIFIED:20190408T135450Z
UID:10000219-1540026000-1540044000@magnoliawi.gov
SUMMARY:Craft & Bake Sale
DESCRIPTION:
URL:https://magnoliawi.gov/event/craft-bake-sale/
LOCATION:Town Hall
CATEGORIES:Events
END:VEVENT
BEGIN:VEVENT
DTSTART;TZID=America/Chicago:20181025T180000
DTEND;TZID=America/Chicago:20181025T193000
DTSTAMP:20260424T050714
CREATED:20190408T135539Z
LAST-MODIFIED:20190408T135539Z
UID:10000220-1540490400-1540495800@magnoliawi.gov
SUMMARY:Budget Workshop
DESCRIPTION:Workshop to develop budget for 2019
URL:https://magnoliawi.gov/event/budget-workshop/
LOCATION:Town Hall
CATEGORIES:Town Board
END:VEVENT
END:VCALENDAR