BEGIN:VCALENDAR
VERSION:2.0
PRODID:-//Town of Magnolia - ECPv6.15.16//NONSGML v1.0//EN
CALSCALE:GREGORIAN
METHOD:PUBLISH
X-WR-CALNAME:Town of Magnolia
X-ORIGINAL-URL:https://magnoliawi.gov
X-WR-CALDESC:Events for Town of Magnolia
REFRESH-INTERVAL;VALUE=DURATION:PT1H
X-Robots-Tag:noindex
X-PUBLISHED-TTL:PT1H
BEGIN:VTIMEZONE
TZID:America/Chicago
BEGIN:DAYLIGHT
TZOFFSETFROM:-0600
TZOFFSETTO:-0500
TZNAME:CDT
DTSTART:20210314T080000
END:DAYLIGHT
BEGIN:STANDARD
TZOFFSETFROM:-0500
TZOFFSETTO:-0600
TZNAME:CST
DTSTART:20211107T070000
END:STANDARD
BEGIN:DAYLIGHT
TZOFFSETFROM:-0600
TZOFFSETTO:-0500
TZNAME:CDT
DTSTART:20220313T080000
END:DAYLIGHT
BEGIN:STANDARD
TZOFFSETFROM:-0500
TZOFFSETTO:-0600
TZNAME:CST
DTSTART:20221106T070000
END:STANDARD
BEGIN:DAYLIGHT
TZOFFSETFROM:-0600
TZOFFSETTO:-0500
TZNAME:CDT
DTSTART:20230312T080000
END:DAYLIGHT
BEGIN:STANDARD
TZOFFSETFROM:-0500
TZOFFSETTO:-0600
TZNAME:CST
DTSTART:20231105T070000
END:STANDARD
END:VTIMEZONE
BEGIN:VEVENT
DTSTART;TZID=America/Chicago:20221213T190000
DTEND;TZID=America/Chicago:20221213T191500
DTSTAMP:20260420T144015
CREATED:20221122T132244Z
LAST-MODIFIED:20221122T132244Z
UID:10000249-1670958000-1670958900@magnoliawi.gov
SUMMARY:Budget Hearing
DESCRIPTION:Notice is hereby given that on December 13\, 2022 at the Magnolia Town Hall a PUBLIC HEARING on thePROPOSED 2023 BUDGET of the Town of Magnolia in Rock County will be held. The proposedbudget in detail will be available for inspection from the Town Clerk on October 25\, 2022. A copy of theproposed budget can be obtained by contacting Graceann Toberman\, Clerk/Treasurer at 608-876-6771.
URL:https://magnoliawi.gov/event/budget-hearing-3/
CATEGORIES:Town Board
END:VEVENT
END:VCALENDAR