BEGIN:VCALENDAR
VERSION:2.0
PRODID:-//Town of Magnolia - ECPv6.15.16//NONSGML v1.0//EN
CALSCALE:GREGORIAN
METHOD:PUBLISH
X-ORIGINAL-URL:https://magnoliawi.gov
X-WR-CALDESC:Events for Town of Magnolia
REFRESH-INTERVAL;VALUE=DURATION:PT1H
X-Robots-Tag:noindex
X-PUBLISHED-TTL:PT1H
BEGIN:VTIMEZONE
TZID:America/Chicago
BEGIN:DAYLIGHT
TZOFFSETFROM:-0600
TZOFFSETTO:-0500
TZNAME:CDT
DTSTART:20210314T080000
END:DAYLIGHT
BEGIN:STANDARD
TZOFFSETFROM:-0500
TZOFFSETTO:-0600
TZNAME:CST
DTSTART:20211107T070000
END:STANDARD
BEGIN:DAYLIGHT
TZOFFSETFROM:-0600
TZOFFSETTO:-0500
TZNAME:CDT
DTSTART:20220313T080000
END:DAYLIGHT
BEGIN:STANDARD
TZOFFSETFROM:-0500
TZOFFSETTO:-0600
TZNAME:CST
DTSTART:20221106T070000
END:STANDARD
BEGIN:DAYLIGHT
TZOFFSETFROM:-0600
TZOFFSETTO:-0500
TZNAME:CDT
DTSTART:20230312T080000
END:DAYLIGHT
BEGIN:STANDARD
TZOFFSETFROM:-0500
TZOFFSETTO:-0600
TZNAME:CST
DTSTART:20231105T070000
END:STANDARD
END:VTIMEZONE
BEGIN:VEVENT
DTSTART;TZID=America/Chicago:20220308T190000
DTEND;TZID=America/Chicago:20220308T191500
DTSTAMP:20260421T050842
CREATED:20220301T120349Z
LAST-MODIFIED:20220301T120349Z
UID:10000245-1646766000-1646766900@magnoliawi.gov
SUMMARY:Public Hearing
DESCRIPTION:Consider a request for a rezone for Larson Acres\, Inc. 18218 W. State Road 59 Evansville\, WI 53536 to separate approximately 2-acres with a house from an 80-acre parcel. The parcel number is 024 010003 and the address of the house is 17002 W. State Road 59 Evansville\, WI 53536. The new parcel would be zoned Rural Residential. 
URL:https://magnoliawi.gov/event/public-hearing-3/
CATEGORIES:Town Board
END:VEVENT
END:VCALENDAR