BEGIN:VCALENDAR
VERSION:2.0
PRODID:-//Town of Magnolia - ECPv6.15.16//NONSGML v1.0//EN
CALSCALE:GREGORIAN
METHOD:PUBLISH
X-WR-CALNAME:Town of Magnolia
X-ORIGINAL-URL:https://magnoliawi.gov
X-WR-CALDESC:Events for Town of Magnolia
REFRESH-INTERVAL;VALUE=DURATION:PT1H
X-Robots-Tag:noindex
X-PUBLISHED-TTL:PT1H
BEGIN:VTIMEZONE
TZID:America/Chicago
BEGIN:DAYLIGHT
TZOFFSETFROM:-0600
TZOFFSETTO:-0500
TZNAME:CDT
DTSTART:20140309T080000
END:DAYLIGHT
BEGIN:STANDARD
TZOFFSETFROM:-0500
TZOFFSETTO:-0600
TZNAME:CST
DTSTART:20141102T070000
END:STANDARD
BEGIN:DAYLIGHT
TZOFFSETFROM:-0600
TZOFFSETTO:-0500
TZNAME:CDT
DTSTART:20150308T080000
END:DAYLIGHT
BEGIN:STANDARD
TZOFFSETFROM:-0500
TZOFFSETTO:-0600
TZNAME:CST
DTSTART:20151101T070000
END:STANDARD
BEGIN:DAYLIGHT
TZOFFSETFROM:-0600
TZOFFSETTO:-0500
TZNAME:CDT
DTSTART:20160313T080000
END:DAYLIGHT
BEGIN:STANDARD
TZOFFSETFROM:-0500
TZOFFSETTO:-0600
TZNAME:CST
DTSTART:20161106T070000
END:STANDARD
BEGIN:DAYLIGHT
TZOFFSETFROM:-0600
TZOFFSETTO:-0500
TZNAME:CDT
DTSTART:20170312T080000
END:DAYLIGHT
BEGIN:STANDARD
TZOFFSETFROM:-0500
TZOFFSETTO:-0600
TZNAME:CST
DTSTART:20171105T070000
END:STANDARD
BEGIN:DAYLIGHT
TZOFFSETFROM:-0600
TZOFFSETTO:-0500
TZNAME:CDT
DTSTART:20180311T080000
END:DAYLIGHT
BEGIN:STANDARD
TZOFFSETFROM:-0500
TZOFFSETTO:-0600
TZNAME:CST
DTSTART:20181104T070000
END:STANDARD
BEGIN:DAYLIGHT
TZOFFSETFROM:-0600
TZOFFSETTO:-0500
TZNAME:CDT
DTSTART:20190310T080000
END:DAYLIGHT
BEGIN:STANDARD
TZOFFSETFROM:-0500
TZOFFSETTO:-0600
TZNAME:CST
DTSTART:20191103T070000
END:STANDARD
BEGIN:DAYLIGHT
TZOFFSETFROM:-0600
TZOFFSETTO:-0500
TZNAME:CDT
DTSTART:20200308T080000
END:DAYLIGHT
BEGIN:STANDARD
TZOFFSETFROM:-0500
TZOFFSETTO:-0600
TZNAME:CST
DTSTART:20201101T070000
END:STANDARD
BEGIN:DAYLIGHT
TZOFFSETFROM:-0600
TZOFFSETTO:-0500
TZNAME:CDT
DTSTART:20210314T080000
END:DAYLIGHT
BEGIN:STANDARD
TZOFFSETFROM:-0500
TZOFFSETTO:-0600
TZNAME:CST
DTSTART:20211107T070000
END:STANDARD
BEGIN:DAYLIGHT
TZOFFSETFROM:-0600
TZOFFSETTO:-0500
TZNAME:CDT
DTSTART:20220313T080000
END:DAYLIGHT
BEGIN:STANDARD
TZOFFSETFROM:-0500
TZOFFSETTO:-0600
TZNAME:CST
DTSTART:20221106T070000
END:STANDARD
BEGIN:DAYLIGHT
TZOFFSETFROM:-0600
TZOFFSETTO:-0500
TZNAME:CDT
DTSTART:20230312T080000
END:DAYLIGHT
BEGIN:STANDARD
TZOFFSETFROM:-0500
TZOFFSETTO:-0600
TZNAME:CST
DTSTART:20231105T070000
END:STANDARD
BEGIN:DAYLIGHT
TZOFFSETFROM:-0600
TZOFFSETTO:-0500
TZNAME:CDT
DTSTART:20240310T080000
END:DAYLIGHT
BEGIN:STANDARD
TZOFFSETFROM:-0500
TZOFFSETTO:-0600
TZNAME:CST
DTSTART:20241103T070000
END:STANDARD
BEGIN:DAYLIGHT
TZOFFSETFROM:-0600
TZOFFSETTO:-0500
TZNAME:CDT
DTSTART:20250309T080000
END:DAYLIGHT
BEGIN:STANDARD
TZOFFSETFROM:-0500
TZOFFSETTO:-0600
TZNAME:CST
DTSTART:20251102T070000
END:STANDARD
BEGIN:DAYLIGHT
TZOFFSETFROM:-0600
TZOFFSETTO:-0500
TZNAME:CDT
DTSTART:20260308T080000
END:DAYLIGHT
BEGIN:STANDARD
TZOFFSETFROM:-0500
TZOFFSETTO:-0600
TZNAME:CST
DTSTART:20261101T070000
END:STANDARD
BEGIN:DAYLIGHT
TZOFFSETFROM:-0600
TZOFFSETTO:-0500
TZNAME:CDT
DTSTART:20270314T080000
END:DAYLIGHT
BEGIN:STANDARD
TZOFFSETFROM:-0500
TZOFFSETTO:-0600
TZNAME:CST
DTSTART:20271107T070000
END:STANDARD
END:VTIMEZONE
BEGIN:VEVENT
DTSTART;TZID=America/Chicago:20260416T190000
DTEND;TZID=America/Chicago:20260416T193000
DTSTAMP:20260422T052704
CREATED:20260405T220747Z
LAST-MODIFIED:20260405T220747Z
UID:10000443-1776366000-1776367800@magnoliawi.gov
SUMMARY:Planning and Zoning Hearing
DESCRIPTION:To consider a request for Jerry Birk P.O. Box 44303 Madison\, WI 53744 to separate 5.01acres with a house and buildings from a 180-acre parcel. The parcel is located at 4724 NCoon Island Road Evansville. The parcel number is 024 016001. It is in the NE ¼ ofSection 12. The parcel is currently zoned A-1 and the new 5.01 parcel would be zoned A3. This is under Town of Magnolia Zoning Ordinance 4.4 (C) (g). \nPZ Hearing April 2026
URL:https://magnoliawi.gov/event/planning-and-zoning-hearing-4/
CATEGORIES:Plan Commission
END:VEVENT
BEGIN:VEVENT
DTSTART;TZID=America/Chicago:20250918T190000
DTEND;TZID=America/Chicago:20250918T200000
DTSTAMP:20260422T052704
CREATED:20250908T202323Z
LAST-MODIFIED:20250908T204235Z
UID:10000416-1758222000-1758225600@magnoliawi.gov
SUMMARY:Planning and Zoning Hearing
DESCRIPTION:A Planning and Zoning Hearing will be held at the Magnolia Town Hall\, 14729 W County Road A\, Evansville\, WI 53536 on September 18\, 2025 at 7:00 PM. \n1. Consider a requst from Steve and Kathy Earleywine to separte 11.08 acres with a houseand buildings from a 51.53 acre parent parcel. \n2. Consider a request from Dane Trustem to re-establish boundaries on a 1.9 acre RR lotthat was created in 2024. \nP&Z September 2025 Agenda
URL:https://magnoliawi.gov/event/planning-and-zoning-hearing-3/
CATEGORIES:Plan Commission
END:VEVENT
BEGIN:VEVENT
DTSTART;TZID=America/Chicago:20240516T190000
DTEND;TZID=America/Chicago:20240516T200000
DTSTAMP:20260422T052704
CREATED:20240516T222326Z
LAST-MODIFIED:20240516T222326Z
UID:10000377-1715886000-1715889600@magnoliawi.gov
SUMMARY:Planning & Zoning Public Hearing
DESCRIPTION:
URL:https://magnoliawi.gov/event/planning-zoning-public-hearing-3/
CATEGORIES:Plan Commission
END:VEVENT
BEGIN:VEVENT
DTSTART;TZID=America/Chicago:20231019T190000
DTEND;TZID=America/Chicago:20231019T193000
DTSTAMP:20260422T052704
CREATED:20231019T014020Z
LAST-MODIFIED:20231019T014020Z
UID:10000333-1697742000-1697743800@magnoliawi.gov
SUMMARY:Planning & Zoning Public Hearing
DESCRIPTION:To consider a request to rezone and create two separate parcels from a 158.75-acreparent parcel owned by Allen and Wendy McCoy 15007 W County Road A\, Evansville\, WI53536. The new parcels would be rezoned from A-1 to A-3. There are currently twosingle family homes and farm buildings located on the property. The proposal is tocreate two new parcels with one of the existing homes on each parcel. Lot #1 would be3.3 acres (+/-) and lot #2 would be 6.6 acres (+/-). This is under Magnolia Zoning Code4.4 (C) (g)\, 4.4 (D) (2)\, 4.4 (D) (6) and 4.4 (F). The parcel number is 024 023001 (6-12-125) and is located in the NE ¼ of NE ¼ of Section 16 in the Town of Magnolia. Theaddress is 3717 N Knutson Road\, Evansville\, WI 53536. 
URL:https://magnoliawi.gov/event/planning-zoning-public-hearing-2/
CATEGORIES:Plan Commission
END:VEVENT
BEGIN:VEVENT
DTSTART;TZID=America/Chicago:20230720T190000
DTEND;TZID=America/Chicago:20230720T200000
DTSTAMP:20260422T052704
CREATED:20230718T120049Z
LAST-MODIFIED:20230718T120049Z
UID:10000259-1689879600-1689883200@magnoliawi.gov
SUMMARY:Planning & Zoning Public Hearing
DESCRIPTION:Agenda: \n\nConsider a conditional Use permit application from Howard Popanz 17210 W Finneran Road\, Evansville\, WI 53536 and Lee Larson agent for Bug Tussel Wireless to construct a communication tower. Proposed is a 300-foot guyed tower with flashing beacons to improve rural high-speed internet. The proposed site is in the SE ¼ of the NE ¼ of Section 17 in the Town of Magnolia. This is proposed on parcel # 024 025002 (6-12-135). The parcel is 20 acres and the request for the conditional use would be 1-acre in size. The property is owned by Howard Popanz.\nConsider a re-zone request from T Drew Farms\, LLC 3633 Walters Way Janesville\, WI 53546 to re-zone 3-acres with a shed that was built in 2021. The address is 14146 W County Road B\, Brodhead WI 53520. This parcel is 154.96 acres and is currently zoned A-1. The proposed 3-acre parcel would be zoned A-3. The reason for the request is to create a separate lot for the new shed. The parcel is in the SE ¼ of the SW ¼ of section 26 and is parcel # 024 040006 (6-12-222).\n\n\nAdjourn
URL:https://magnoliawi.gov/event/planning-zoning-public-hearing/
CATEGORIES:Plan Commission
END:VEVENT
BEGIN:VEVENT
DTSTART;TZID=America/Chicago:20230119T190000
DTEND;TZID=America/Chicago:20230119T200000
DTSTAMP:20260422T052704
CREATED:20230108T124807Z
LAST-MODIFIED:20230802T120730Z
UID:10000252-1674154800-1674158400@magnoliawi.gov
SUMMARY:Planning & Zoning
DESCRIPTION:Consider a request for a rezone from A-1 to A-3 and a request for a Conditional Use Permit for Dave and Kelly Javan\, 702 N State Road 213\, Brodhead\, WI 53520 to use an existing barn for an event venue. The CUP would be in accordance with the Town of Magnolia Zoning Code section 4.6 (C)(1) for A-3 zoning. The parcel number is 024 04000601 and is located in Section 26 of the Town of Magnolia. This is a 4.020-acre parcel currently\, however the town has received a Certified Survey Map to change the parcel to 4.428 acres. This change is due to the septic system not being completely included on this parcel at time of sale. \nAgenda: \n\nPublic Comment.\nApprove rezone of property from A-1 to A-3 and change of lot size per Certified Survey Map.\nDetermine conditions to be applied to a possible Conditional Use Permit.\nMake a recommendation to the Town Board to deny\, approve\, or approve with conditions the request to operate an event barn on this property.
URL:https://magnoliawi.gov/event/planning-zoning-4/
CATEGORIES:Plan Commission
END:VEVENT
BEGIN:VEVENT
DTSTART;TZID=America/Chicago:20221215T190000
DTEND;TZID=America/Chicago:20221215T210000
DTSTAMP:20260422T052704
CREATED:20221129T013637Z
LAST-MODIFIED:20221129T014904Z
UID:10000250-1671130800-1671138000@magnoliawi.gov
SUMMARY:Planning & Zoning
DESCRIPTION:Consider a request for a Conditional Use Permit for Dave and Kelly Javan\, 702 N State Road 213\, Brodhead\, WI 53520 to make renovations to the existing barn to convert the upper and lower level into a dry venue. The renovations would be in accordance with the Town of Magnolia Zoning Code section 4.6 (C) (1). The parcel number is 024 04000601. This is a 4.020 acre parcel located in section 26 of the Town of Magnolia.
URL:https://magnoliawi.gov/event/planning-zoning-3/
CATEGORIES:Plan Commission
END:VEVENT
BEGIN:VEVENT
DTSTART;TZID=America/Chicago:20221020T190000
DTEND;TZID=America/Chicago:20221020T200000
DTSTAMP:20260422T052704
CREATED:20221012T014803Z
LAST-MODIFIED:20221012T014803Z
UID:10000161-1666292400-1666296000@magnoliawi.gov
SUMMARY:Planning & Zoning
DESCRIPTION:
URL:https://magnoliawi.gov/event/planning-zoning-2/
CATEGORIES:Plan Commission
END:VEVENT
BEGIN:VEVENT
DTSTART;TZID=America/Chicago:20220915T190000
DTEND;TZID=America/Chicago:20220915T200000
DTSTAMP:20260422T052704
CREATED:20220831T022144Z
LAST-MODIFIED:20220831T022409Z
UID:10000158-1663268400-1663272000@magnoliawi.gov
SUMMARY:Planning & Zoning
DESCRIPTION:NOTICETOWN OF MAGNOLIAPLANNING AND ZONING HEARINGTO BE HELD AT THE MAGNOLIA TOWN HALL14729 W. COUNTY ROAD A\, EVANSVILLE\, WI 53536THURSDAY\, SEPTEMBER 15\, 20227:00 P.M.Agenda:1. Consider a request for E Zee Rentals LLC to rezone 3 acres from A-1to A-3. The request would create a new 3 acre parcel with the existinggrain bins on it. The grain bins are located at 17347 W County RoadA\, Evansville\, WI 53536. The parent parcel is #024 029004 and iscurrently listed as 205 acres. 
URL:https://magnoliawi.gov/event/planning-zoning/
CATEGORIES:Plan Commission
END:VEVENT
BEGIN:VEVENT
DTSTART;TZID=America/Chicago:20220519T190000
DTEND;TZID=America/Chicago:20220519T210000
DTSTAMP:20260422T052704
CREATED:20220506T105231Z
LAST-MODIFIED:20220506T105712Z
UID:10000155-1652986800-1652994000@magnoliawi.gov
SUMMARY:Planning & Zoning Hearing
DESCRIPTION:Consider a request for a rezone from A-1 to A-3 and a request for a Conditional Use Permit for Dave and Kelly Javan\, 702 N State Road 213\, Brodhead\, WI 53520 to make renovations to the existing barn to convert the upper and lower level into a dry venue. The renovations would be in accordance with the Town of Magnolia Zoning Code section 4.4 (C)(2)(f) for A-1 zoning or 4.6 (C)(1) for A-3 zoning. The parcel number is 024 04000601. This is a 4.020 acre parcel located in section 26 of the Town of Magnolia. The proposal has three phases. Phase one includes new electrical on the upper level of the barn\, new lighting fixtures and fans\, heating for year round utilization\, flooring\, south facing windows and doors leading to a sun deck that will lead to a veranda and venue signage and lighting. Phase two includes new electrical on lower level\, seating area on south end for outdoor gatherings\, new entrance door\, bathrooms\, small prep kitchen and additional areas for meeting rooms. Phase three includes a bar area for creating non-alcoholic drinks.
URL:https://magnoliawi.gov/event/planning-zoning-meeting-2/
CATEGORIES:Plan Commission
END:VEVENT
BEGIN:VEVENT
DTSTART;TZID=America/Chicago:20220210T190000
DTEND;TZID=America/Chicago:20220210T193000
DTSTAMP:20260422T052704
CREATED:20220128T003331Z
LAST-MODIFIED:20220128T003422Z
UID:10000244-1644519600-1644521400@magnoliawi.gov
SUMMARY:Planning & Zoning Hearing
DESCRIPTION:Consider a request for a Conditional Use Permit for Larson Acres\, Inc. 18218 W. State Road 59 Evansville\, WI 53536 to separate approximately 2-acres with a house from an 80-acre parcel. The parcel number is 024 010003 and the address of the house is 17002 W. State Road 59 Evansville\, WI 53536. The new parcel would be zoned A-3. 
URL:https://magnoliawi.gov/event/planning-zoning-meeting/
CATEGORIES:Plan Commission
END:VEVENT
BEGIN:VEVENT
DTSTART;TZID=America/Chicago:20200813T190000
DTEND;TZID=America/Chicago:20200813T193000
DTSTAMP:20260422T052704
CREATED:20200712T120257Z
LAST-MODIFIED:20200712T120926Z
UID:10000144-1597345200-1597347000@magnoliawi.gov
SUMMARY:Planning and Zoning Hearing
DESCRIPTION:P-Z-Hearing-August-2020-Meredith
URL:https://magnoliawi.gov/event/planning-and-zoning-hearing-2/
CATEGORIES:Plan Commission
END:VEVENT
BEGIN:VEVENT
DTSTART;TZID=America/Chicago:20190808T190000
DTEND;TZID=America/Chicago:20190808T200000
DTSTAMP:20260422T052704
CREATED:20190724T105550Z
LAST-MODIFIED:20190807T123957Z
UID:10000136-1565290800-1565294400@magnoliawi.gov
SUMMARY:Planning and Zoning Hearing
DESCRIPTION:1.       To consider a conditional use permit application for James (Marty) Rowley and Lee Larson agent for Bug Tussel wireless to construct a communication tower to bring broadband internet to rural areas\, to expand the federal government’s First Responder Network (FirstNet) and AT&T’s mobile phone network to the county. Proposed is a 300’ guyed tower with flashing beacons to be identified by air traffic.  The proposed site is in the southeast ¼ of the northeast ¼ of section 23. The parcel number 024 035002. The property is owned by James (Marty) Rowley.
URL:https://magnoliawi.gov/event/planning-and-zoning-hearing/
CATEGORIES:Plan Commission
END:VEVENT
BEGIN:VEVENT
DTSTART;TZID=America/Chicago:20181009T190000
DTEND;TZID=America/Chicago:20181009T193000
DTSTAMP:20260422T052704
CREATED:20190408T122131Z
LAST-MODIFIED:20190408T122131Z
UID:10000010-1539111600-1539113400@magnoliawi.gov
SUMMARY:Public Hearing
DESCRIPTION:
URL:https://magnoliawi.gov/event/public-hearing-2/
LOCATION:Town Hall
CATEGORIES:Plan Commission
END:VEVENT
BEGIN:VEVENT
DTSTART;TZID=America/Chicago:20180913T190000
DTEND;TZID=America/Chicago:20180913T200000
DTSTAMP:20260422T052704
CREATED:20190408T122020Z
LAST-MODIFIED:20190408T122020Z
UID:10000009-1536865200-1536868800@magnoliawi.gov
SUMMARY:Planning & Zoning Hearing/Meeting
DESCRIPTION:Public Hearing on amended P&Z Ordinance book
URL:https://magnoliawi.gov/event/planning-zoning-hearing-meeting/
CATEGORIES:Plan Commission
END:VEVENT
BEGIN:VEVENT
DTSTART;TZID=America/Chicago:20180405T190000
DTEND;TZID=America/Chicago:20180405T210000
DTSTAMP:20260422T052704
CREATED:20190408T115935Z
LAST-MODIFIED:20190408T115935Z
UID:10000005-1522954800-1522962000@magnoliawi.gov
SUMMARY:P&Z Workhop
DESCRIPTION:
URL:https://magnoliawi.gov/event/pz-workhop/2018-04-05/
LOCATION:Town Hall
CATEGORIES:Plan Commission
END:VEVENT
BEGIN:VEVENT
DTSTART;TZID=America/Chicago:20180322T190000
DTEND;TZID=America/Chicago:20180322T210000
DTSTAMP:20260422T052704
CREATED:20190408T115935Z
LAST-MODIFIED:20190408T115935Z
UID:10000004-1521745200-1521752400@magnoliawi.gov
SUMMARY:P&Z Workhop
DESCRIPTION:
URL:https://magnoliawi.gov/event/pz-workhop/2018-03-22/
LOCATION:Town Hall
CATEGORIES:Plan Commission
END:VEVENT
BEGIN:VEVENT
DTSTART;TZID=America/Chicago:20180308T190000
DTEND;TZID=America/Chicago:20180308T210000
DTSTAMP:20260422T052704
CREATED:20190408T115935Z
LAST-MODIFIED:20190408T115935Z
UID:10000003-1520535600-1520542800@magnoliawi.gov
SUMMARY:P&Z Workhop
DESCRIPTION:
URL:https://magnoliawi.gov/event/pz-workhop/2018-03-08/
LOCATION:Town Hall
CATEGORIES:Plan Commission
END:VEVENT
BEGIN:VEVENT
DTSTART;TZID=America/Chicago:20180125T190000
DTEND;TZID=America/Chicago:20180125T210000
DTSTAMP:20260422T052704
CREATED:20190408T114323Z
LAST-MODIFIED:20190408T114323Z
UID:10000214-1516906800-1516914000@magnoliawi.gov
SUMMARY:P & Z Meeting
DESCRIPTION:Discuss Town of Magnolia Zoning Ordinance regarding re-certification for Farmland Preservation tax credit.
URL:https://magnoliawi.gov/event/p-z-meeting/
LOCATION:Town Hall
CATEGORIES:Plan Commission
END:VEVENT
BEGIN:VEVENT
DTSTART;TZID=America/Chicago:20171214T190000
DTEND;TZID=America/Chicago:20171214T210000
DTSTAMP:20260422T052704
CREATED:20190408T114236Z
LAST-MODIFIED:20190408T114236Z
UID:10000213-1513278000-1513285200@magnoliawi.gov
SUMMARY:P&Z Meeting
DESCRIPTION:Discuss Town of Magnolia Zoning Ordinance regarding re-certification for Farmland Preservation tax credit.
URL:https://magnoliawi.gov/event/pz-meeting/
LOCATION:Town Hall
CATEGORIES:Plan Commission
END:VEVENT
BEGIN:VEVENT
DTSTART;TZID=America/Chicago:20171012T190000
DTEND;TZID=America/Chicago:20171012T193000
DTSTAMP:20260422T052704
CREATED:20190408T113455Z
LAST-MODIFIED:20190408T113455Z
UID:10000197-1507834800-1507836600@magnoliawi.gov
SUMMARY:Planning & Zoning Hearing
DESCRIPTION:Consider a request by Cynthia Helgesen representing the Edward Hoerler Trust to rezone 5 +/-acres from an 80-acre parcel.
URL:https://magnoliawi.gov/event/planning-zoning-hearing-4/
LOCATION:Town Hall
CATEGORIES:Plan Commission
END:VEVENT
BEGIN:VEVENT
DTSTART;TZID=America/Chicago:20170413T190000
DTEND;TZID=America/Chicago:20170413T200000
DTSTAMP:20260422T052704
CREATED:20190408T111600Z
LAST-MODIFIED:20190408T111600Z
UID:10000205-1492110000-1492113600@magnoliawi.gov
SUMMARY:Planning & Zoning Hearing
DESCRIPTION:
URL:https://magnoliawi.gov/event/planning-zoning-hearing-3/
LOCATION:Town Hall
CATEGORIES:Plan Commission
END:VEVENT
BEGIN:VEVENT
DTSTART;TZID=America/Chicago:20161013T180000
DTEND;TZID=America/Chicago:20161013T193000
DTSTAMP:20260422T052704
CREATED:20190408T110020Z
LAST-MODIFIED:20190408T110020Z
UID:10000190-1476381600-1476387000@magnoliawi.gov
SUMMARY:P & Z Hearing
DESCRIPTION:
URL:https://magnoliawi.gov/event/p-z-hearing/
LOCATION:Town Hall
CATEGORIES:Plan Commission
END:VEVENT
BEGIN:VEVENT
DTSTART;TZID=America/Chicago:20160609T190000
DTEND;TZID=America/Chicago:20160609T193000
DTSTAMP:20260422T052704
CREATED:20190407T102829Z
LAST-MODIFIED:20190407T102829Z
UID:10000175-1465498800-1465500600@magnoliawi.gov
SUMMARY:Planning & Zoning Hearing
DESCRIPTION:Consider a request from Phillip Schwartz for a land division and rezoning of one parcel (parcel #024 0140081) into three parcels.
URL:https://magnoliawi.gov/event/planning-zoning-hearing-2/
CATEGORIES:Plan Commission
END:VEVENT
BEGIN:VEVENT
DTSTART;TZID=America/Chicago:20150409T190000
DTEND;TZID=America/Chicago:20150409T193000
DTSTAMP:20260422T052704
CREATED:20190407T095446Z
LAST-MODIFIED:20190407T095446Z
UID:10000171-1428606000-1428607800@magnoliawi.gov
SUMMARY:Planning & Zoning Hearing
DESCRIPTION:
URL:https://magnoliawi.gov/event/planning-zoning-hearing/
CATEGORIES:Plan Commission
END:VEVENT
END:VCALENDAR