BEGIN:VCALENDAR
VERSION:2.0
PRODID:-//Town of Magnolia - ECPv6.15.16//NONSGML v1.0//EN
CALSCALE:GREGORIAN
METHOD:PUBLISH
X-ORIGINAL-URL:https://magnoliawi.gov
X-WR-CALDESC:Events for Town of Magnolia
REFRESH-INTERVAL;VALUE=DURATION:PT1H
X-Robots-Tag:noindex
X-PUBLISHED-TTL:PT1H
BEGIN:VTIMEZONE
TZID:America/Chicago
BEGIN:DAYLIGHT
TZOFFSETFROM:-0600
TZOFFSETTO:-0500
TZNAME:CDT
DTSTART:20220313T080000
END:DAYLIGHT
BEGIN:STANDARD
TZOFFSETFROM:-0500
TZOFFSETTO:-0600
TZNAME:CST
DTSTART:20221106T070000
END:STANDARD
BEGIN:DAYLIGHT
TZOFFSETFROM:-0600
TZOFFSETTO:-0500
TZNAME:CDT
DTSTART:20230312T080000
END:DAYLIGHT
BEGIN:STANDARD
TZOFFSETFROM:-0500
TZOFFSETTO:-0600
TZNAME:CST
DTSTART:20231105T070000
END:STANDARD
BEGIN:DAYLIGHT
TZOFFSETFROM:-0600
TZOFFSETTO:-0500
TZNAME:CDT
DTSTART:20240310T080000
END:DAYLIGHT
BEGIN:STANDARD
TZOFFSETFROM:-0500
TZOFFSETTO:-0600
TZNAME:CST
DTSTART:20241103T070000
END:STANDARD
END:VTIMEZONE
BEGIN:VEVENT
DTSTART;TZID=America/Chicago:20231114T192000
DTEND;TZID=America/Chicago:20231114T193000
DTSTAMP:20260420T204516
CREATED:20231021T131827Z
LAST-MODIFIED:20231021T131827Z
UID:10000343-1699989600-1699990200@magnoliawi.gov
SUMMARY:Special Town Meeting of the Electors
DESCRIPTION:Notice is hereby given that on November 14\, 2023\, immediately following completion of the Public Hearing on the proposed year 2024 budget at the Magnolia Town Hall\, a special town meeting of the electors\, called by the Town Board pursuant to Section 60.12 (1)(c) of the Wisconsin Statutes\, will be held for the following purposes: \n\nTo approve year 2023 town tax levy to be paid in 2023 pursuant to Section 60.10 (1) (a) of the Wisconsin State Statutes.
URL:https://magnoliawi.gov/event/special-town-meeting-of-the-electors/
CATEGORIES:Meetings
END:VEVENT
END:VCALENDAR