BEGIN:VCALENDAR
VERSION:2.0
PRODID:-//Town of Magnolia - ECPv6.15.16//NONSGML v1.0//EN
CALSCALE:GREGORIAN
METHOD:PUBLISH
X-ORIGINAL-URL:https://magnoliawi.gov
X-WR-CALDESC:Events for Town of Magnolia
REFRESH-INTERVAL;VALUE=DURATION:PT1H
X-Robots-Tag:noindex
X-PUBLISHED-TTL:PT1H
BEGIN:VTIMEZONE
TZID:America/Chicago
BEGIN:DAYLIGHT
TZOFFSETFROM:-0600
TZOFFSETTO:-0500
TZNAME:CDT
DTSTART:20200308T080000
END:DAYLIGHT
BEGIN:STANDARD
TZOFFSETFROM:-0500
TZOFFSETTO:-0600
TZNAME:CST
DTSTART:20201101T070000
END:STANDARD
BEGIN:DAYLIGHT
TZOFFSETFROM:-0600
TZOFFSETTO:-0500
TZNAME:CDT
DTSTART:20210314T080000
END:DAYLIGHT
BEGIN:STANDARD
TZOFFSETFROM:-0500
TZOFFSETTO:-0600
TZNAME:CST
DTSTART:20211107T070000
END:STANDARD
BEGIN:DAYLIGHT
TZOFFSETFROM:-0600
TZOFFSETTO:-0500
TZNAME:CDT
DTSTART:20220313T080000
END:DAYLIGHT
BEGIN:STANDARD
TZOFFSETFROM:-0500
TZOFFSETTO:-0600
TZNAME:CST
DTSTART:20221106T070000
END:STANDARD
END:VTIMEZONE
BEGIN:VEVENT
DTSTART;TZID=America/Chicago:20210112T190000
DTEND;TZID=America/Chicago:20210112T191500
DTSTAMP:20260422T052716
CREATED:20210106T120022Z
LAST-MODIFIED:20210106T121048Z
UID:10000148-1610478000-1610478900@magnoliawi.gov
SUMMARY:Town Caucus
DESCRIPTION:NOTICE is hereby gven to the electors of the Town of Magnolia\, in the County of Rock\, State of Wisconsin\, that a Town Caucus for said town will be held at the Magnolia Town Hall\, 14729 W. County Road A\, Evansville\, WI 53536 in said town on January 12\, 2021 at 7:00 p.m. to nominate candidates for the different town offices to be voted for at the Town Election to be held on the first Tuesday in April of 2021.
URL:https://magnoliawi.gov/event/town-caucus/
CATEGORIES:Election
END:VEVENT
END:VCALENDAR