BEGIN:VCALENDAR
VERSION:2.0
PRODID:-//Town of Magnolia - ECPv6.15.16//NONSGML v1.0//EN
CALSCALE:GREGORIAN
METHOD:PUBLISH
X-ORIGINAL-URL:https://magnoliawi.gov
X-WR-CALDESC:Events for Town of Magnolia
REFRESH-INTERVAL;VALUE=DURATION:PT1H
X-Robots-Tag:noindex
X-PUBLISHED-TTL:PT1H
BEGIN:VTIMEZONE
TZID:America/Chicago
BEGIN:DAYLIGHT
TZOFFSETFROM:-0600
TZOFFSETTO:-0500
TZNAME:CDT
DTSTART:20170312T080000
END:DAYLIGHT
BEGIN:STANDARD
TZOFFSETFROM:-0500
TZOFFSETTO:-0600
TZNAME:CST
DTSTART:20171105T070000
END:STANDARD
BEGIN:DAYLIGHT
TZOFFSETFROM:-0600
TZOFFSETTO:-0500
TZNAME:CDT
DTSTART:20180311T080000
END:DAYLIGHT
BEGIN:STANDARD
TZOFFSETFROM:-0500
TZOFFSETTO:-0600
TZNAME:CST
DTSTART:20181104T070000
END:STANDARD
BEGIN:DAYLIGHT
TZOFFSETFROM:-0600
TZOFFSETTO:-0500
TZNAME:CDT
DTSTART:20190310T080000
END:DAYLIGHT
BEGIN:STANDARD
TZOFFSETFROM:-0500
TZOFFSETTO:-0600
TZNAME:CST
DTSTART:20191103T070000
END:STANDARD
END:VTIMEZONE
BEGIN:VEVENT
DTSTART;TZID=America/Chicago:20181106T070000
DTEND;TZID=America/Chicago:20181106T200000
DTSTAMP:20260424T050734
CREATED:20190408T135629Z
LAST-MODIFIED:20190408T135629Z
UID:10000221-1541487600-1541534400@magnoliawi.gov
SUMMARY:2018 General Election
DESCRIPTION:Polls Open 7:00 AM until 8:00 PM
URL:https://magnoliawi.gov/event/2018-general-election/
LOCATION:Town Hall
CATEGORIES:Election
END:VEVENT
END:VCALENDAR