BEGIN:VCALENDAR
VERSION:2.0
PRODID:-//Town of Magnolia - ECPv6.15.16//NONSGML v1.0//EN
CALSCALE:GREGORIAN
METHOD:PUBLISH
X-WR-CALNAME:Town of Magnolia
X-ORIGINAL-URL:https://magnoliawi.gov
X-WR-CALDESC:Events for Town of Magnolia
REFRESH-INTERVAL;VALUE=DURATION:PT1H
X-Robots-Tag:noindex
X-PUBLISHED-TTL:PT1H
BEGIN:VTIMEZONE
TZID:America/Chicago
BEGIN:DAYLIGHT
TZOFFSETFROM:-0600
TZOFFSETTO:-0500
TZNAME:CDT
DTSTART:20150308T080000
END:DAYLIGHT
BEGIN:STANDARD
TZOFFSETFROM:-0500
TZOFFSETTO:-0600
TZNAME:CST
DTSTART:20151101T070000
END:STANDARD
BEGIN:DAYLIGHT
TZOFFSETFROM:-0600
TZOFFSETTO:-0500
TZNAME:CDT
DTSTART:20160313T080000
END:DAYLIGHT
BEGIN:STANDARD
TZOFFSETFROM:-0500
TZOFFSETTO:-0600
TZNAME:CST
DTSTART:20161106T070000
END:STANDARD
BEGIN:DAYLIGHT
TZOFFSETFROM:-0600
TZOFFSETTO:-0500
TZNAME:CDT
DTSTART:20170312T080000
END:DAYLIGHT
BEGIN:STANDARD
TZOFFSETFROM:-0500
TZOFFSETTO:-0600
TZNAME:CST
DTSTART:20171105T070000
END:STANDARD
END:VTIMEZONE
BEGIN:VEVENT
DTSTART;TZID=America/Chicago:20161108T070000
DTEND;TZID=America/Chicago:20161108T200000
DTSTAMP:20260425T230913
CREATED:20190407T103007Z
LAST-MODIFIED:20190407T103007Z
UID:10000194-1478588400-1478635200@magnoliawi.gov
SUMMARY:2016 General Election
DESCRIPTION:
URL:https://magnoliawi.gov/event/2016-general-election/
LOCATION:Town Hall
CATEGORIES:Election
END:VEVENT
BEGIN:VEVENT
DTSTART;TZID=America/Chicago:20161108T183000
DTEND;TZID=America/Chicago:20161108T184500
DTSTAMP:20260425T230913
CREATED:20190408T110106Z
LAST-MODIFIED:20190408T110106Z
UID:10000189-1478629800-1478630700@magnoliawi.gov
SUMMARY:Town Board Hearing-Rezone
DESCRIPTION:
URL:https://magnoliawi.gov/event/town-board-hearing-rezone/
CATEGORIES:Town Board
END:VEVENT
BEGIN:VEVENT
DTSTART;TZID=America/Chicago:20161108T184500
DTEND;TZID=America/Chicago:20161108T190000
DTSTAMP:20260425T230913
CREATED:20190408T110158Z
LAST-MODIFIED:20190408T110158Z
UID:10000188-1478630700-1478631600@magnoliawi.gov
SUMMARY:Town Meeting of the Electors-Tax Levy
DESCRIPTION:
URL:https://magnoliawi.gov/event/town-meeting-of-the-electors-tax-levy/
CATEGORIES:Town Board
END:VEVENT
BEGIN:VEVENT
DTSTART;TZID=America/Chicago:20161108T184500
DTEND;TZID=America/Chicago:20161108T190000
DTSTAMP:20260425T230913
CREATED:20190408T110253Z
LAST-MODIFIED:20190408T110253Z
UID:10000187-1478630700-1478631600@magnoliawi.gov
SUMMARY:Public Budget Hearing
DESCRIPTION:
URL:https://magnoliawi.gov/event/public-budget-hearing/
CATEGORIES:Town Board
END:VEVENT
END:VCALENDAR